BEGIN:VCALENDAR
VERSION:2.0
PRODID:-//Power Presence OF God Ministries - ECPv6.3.2//NONSGML v1.0//EN
CALSCALE:GREGORIAN
METHOD:PUBLISH
X-ORIGINAL-URL:https://ppgministries.com
X-WR-CALDESC:Events for Power Presence OF God Ministries
REFRESH-INTERVAL;VALUE=DURATION:PT1H
X-Robots-Tag:noindex
X-PUBLISHED-TTL:PT1H
BEGIN:VTIMEZONE
TZID:UTC
BEGIN:STANDARD
TZOFFSETFROM:+0000
TZOFFSETTO:+0000
TZNAME:UTC
DTSTART:20240101T000000
END:STANDARD
END:VTIMEZONE
BEGIN:VEVENT
DTSTART;TZID=UTC:20241001T180000
DTEND;TZID=UTC:20241001T190000
DTSTAMP:20260423T104523
CREATED:20240926T092733Z
LAST-MODIFIED:20240926T093513Z
UID:3636-1727805600-1727809200@ppgministries.com
SUMMARY:Food help I Potravinová pomoc
DESCRIPTION:Jsme křesťanská nezisková organizace a při úterním setkání v Parku Přátelství na Proseku od 18:00 budeme v parku rozdávat jídlo\, i nekřesťané jsou vítáni. Vyplňte tento formulář: https://forms.gle/5Zx9c5hvoiWbKSmu8\, ať pro vás připravíme tašku. Vezměte si i svoje tašky. Vstupem souhlasíte s tím\, že bude probíhat živý přenos vyučování a jste obeznámeni s tím\, že potraviny pocházejí z Potravinové banky a přebíráte plnou zodpovědnost za možné problémy vzniklé jejich konzumací. Tel: 73223772020
URL:https://ppgministries.com/event/food-help/
LOCATION:Private: Park Přátelství za Billou\, Park Přátelství\, Prague\, 19000\, Czech Republic
ATTACH;FMTTYPE=image/jpeg:https://ppgministries.com/wp-content/uploads/2024/09/food-help.jpg
ORGANIZER;CN="PPGM":MAILTO:conference@ppgministries.com
END:VEVENT
BEGIN:VEVENT
DTSTART;TZID=UTC:20241108T180000
DTEND;TZID=UTC:20241110T150000
DTSTAMP:20260423T104523
CREATED:20240122T070922Z
LAST-MODIFIED:20250111T135035Z
UID:666-1731088800-1731250800@ppgministries.com
SUMMARY:Holy Spirit Weekend
DESCRIPTION:  \n \nJoin us for a weekend filled with spiritual enrichment and the presence of the Holy Spirit. Engage in uplifting sessions\, worship\, and fellowship. We look forward to your presence at this transformative event! \nDetails:\n– Date: 8. – 10. November 2024\n– Address: Konferenční centrum Immanuel. Dlouhý 1\, Slavíkov \nPrice: Price for accommodation and full board: 1600 CZK (non-refundable) till 16th of October\, 2000 CZK (non-refundable) from 17th of October \nRegister Online: https://forms.gle/aB1vq7k6meH6GYow6\nFor Inquiries: +420 732 237 720
URL:https://ppgministries.com/event/holy-spirit-weekend/
LOCATION:Konferenční centrum Immanuel. Dlouhý 1\, Slavíkov\, Slavíkov-dlouhý\, Ždírec Nad Doubravou\, 1 582 63
ATTACH;FMTTYPE=image/jpeg:https://ppgministries.com/wp-content/uploads/2024/10/5-1.jpg
ORGANIZER;CN="PPGM":MAILTO:conference@ppgministries.com
END:VEVENT
END:VCALENDAR